Workbook
Name Cash_Minimum: 'Cash flow forecast'!$J$4
Name Start_Date: 'Cash flow forecast'!$F$4

Sheet Cash flow forecast
B1: ELBIDE REALTY
B2: Cash flow forecast
B4: Starting cash on hand | C4: 10000 | E4: Starting date | F4: =DATE(YEAR(TODAY()),MONTH(TODAY())+1,1) -> 45962 | H4: Cash minimum balance alert | J4: 2000
C7: =IF(Start_Date="","",Start_Date) -> 45962 | D7: =IF(C7="","",DATE(YEAR(C7),MONTH(C7)+1,1)) -> 45992 | E7: =IF(D7="","",DATE(YEAR(D7),MONTH(D7)+1,1)) -> 46023 | F7: =IF(E7="","",DATE(YEAR(E7),MONTH(E7)+1,1)) -> 46054 | G7: =IF(F7="","",DATE(YEAR(F7),MONTH(F7)+1,1)) -> 46082 | H7: =IF(G7="","",DATE(YEAR(G7),MONTH(G7)+1,1)) -> 46113 | I7: =IF(H7="","",DATE(YEAR(H7),MONTH(H7)+1,1)) -> 46143 | J7: =IF(I7="","",DATE(YEAR(I7),MONTH(I7)+1,1)) -> 46174 | K7: =IF(J7="","",DATE(YEAR(J7),MONTH(J7)+1,1)) -> 46204 | ... N7: =IF(M7="","",DATE(YEAR(M7),MONTH(M7)+1,1)) -> 46296 | O7: Total
B8: Cash on hand (beginning of month) | C8: =C4 -> 10000 | D8: =C57 -> 8050 | E8: =D57 -> 9350 | F8: =E57 -> 890 | G8: =F57 -> 2190 | H8: =G57 -> 13590 | I8: =H57 -> 13790 | J8: =I57 -> 15290 | K8: =J57 -> 16410 | ... N8: =M57 -> 18780
B10: Cash receipts
B12: Cash sales | C12: 2500 | D12: 3000 | E12: 3600 | F12: 3000 | G12: 14000 | H12: 6000 | I12: 3000 | J12: 2800 | K12: 3500 | L12: 4000 | M12: 3800 | N12: 4200 | O12: =SUM(C12:N12) -> 53400
B13: Returns and allowances | E13: 200 | O13: =SUM(C13:N13) -> 200
B14: Collections on accounts receivable | O14: =SUM(C14:N14) -> 0
B15: Interest, other income | O15: =SUM(C15:N15) -> 0
B16: Loan proceeds | O16: =SUM(C16:N16) -> 0
B17: Owner contributions | O17: =SUM(C17:N17) -> 0
B18: Other receipts | O18: =SUM(C18:N18) -> 0
B19: Total cash receipts | C19: =SUM(C12,C14:C18,(C13*-1)) -> 2500 | D19: =SUM(D12,D14:D18,(D13*-1)) -> 3000 | E19: =SUM(E12,E14:E18,(E13*-1)) -> 3400 | F19: =SUM(F12,F14:F18,(F13*-1)) -> 3000 | G19: =SUM(G12,G14:G18,(G13*-1)) -> 14000 | H19: =SUM(H12,H14:H18,(H13*-1)) -> 6000 | I19: =SUM(I12,I14:I18,(I13*-1)) -> 3000 | J19: =SUM(J12,J14:J18,(J13*-1)) -> 2800 | ... N19: =SUM(N12,N14:N18,(N13*-1)) -> 4200 | O19: =SUM(O12:O18) -> 53600
B20: Total cash available | C20: =(C8+C19) -> 12500 | D20: =(D8+D19) -> 11050 | E20: =(E8+E19) -> 12750 | F20: =(F8+F19) -> 3890 | G20: =(G8+G19) -> 16190 | H20: =(H8+H19) -> 19590 | I20: =(I8+I19) -> 16790 | J20: =(J8+J19) -> 18090 | ... N20: =(N8+N19) -> 22980
B22: Cash paid out
B24: Advertising | C24: 3000 | O24: =SUM(C24:N24) -> 3000
B25: Commissions and fees | C25: 250 | D25: 300 | E25: 360 | F25: 300 | G25: 1400 | H25: 400 | I25: 300 | J25: 280 | K25: 350 | L25: 400 | M25: 380 | N25: 420 | O25: =SUM(C25:N25) -> 5140
B26: Contract labor | D26: 200 | F26: 200 | H26: 200 | J26: 200 | L26: 200 | N26: 200 | O26: =SUM(C26:N26) -> 1200
B27: Employee benefit programs | O27: =SUM(C27:N27) -> 0
B28: Insurance (other than health) | E28: 4000 | H28: 4000 | K28: 4000 | N28: 4000 | O28: =SUM(C28:N28) -> 16000
B29: Interest expense | O29: =SUM(C29:N29) -> 0
B30: Materials and supplies (in COGS) | C30: 1200 | D30: 1200 | E30: 7500 | F30: 1200 | G30: 1200 | H30: 1200 | I30: 1200 | J30: 1200 | K30: 1200 | L30: 1200 | M30: 1200 | N30: 1200 | O30: =SUM(C30:N30) -> 20700
B31: Meals and entertainment | O31: =SUM(C31:N31) -> 0
B32: Mortgage interest | O32: =SUM(C32:N32) -> 0
B33: Office expense | O33: =SUM(C33:N33) -> 0
B34: Other interest expense | O34: =SUM(C34:N34) -> 0
B35: Pension and profit-sharing plan | O35: =SUM(C35:N35) -> 0
B36: Purchases for resale | O36: =SUM(C36:N36) -> 0
B37: Rent or lease | O37: =SUM(C37:N37) -> 0
B38: Rent or lease: vehicles, equipment | O38: =SUM(C38:N38) -> 0
B39: Repairs and maintenance | O39: =SUM(C39:N39) -> 0
B40: Supplies (not in COGS) | O40: =SUM(C40:N40) -> 0
B41: Taxes and licenses | O41: =SUM(C41:N41) -> 0
B42: Travel | O42: =SUM(C42:N42) -> 0
... B48: Miscellaneous | O48: =SUM(C48:N48) -> 0
B49: Subtotal | C49: =SUM(C24:C48) -> 4450 | D49: =SUM(D24:D48) -> 1700 | E49: =SUM(E24:E48) -> 11860 | F49: =SUM(F24:F48) -> 1700 | G49: =SUM(G24:G48) -> 2600 | H49: =SUM(H24:H48) -> 5800 | I49: =SUM(I24:I48) -> 1500 | J49: =SUM(J24:J48) -> 1680 | ... N49: =SUM(N24:N48) -> 5820 | O49: =SUM(C49:N49) -> 46040
B51: Loan principal payment | O51: =SUM(C51:N51) -> 0
B52: Capital purchases | O52: =SUM(C52:N52) -> 0
B53: Other startup costs | O53: =SUM(C53:N53) -> 0
...

Sheet Cash flow chart
B1: ELBIDE REALTY
B2: Cash flow forecast
B4: Month | C4: Cash on hand | M4: =B4 -> Month | N4: Not Below Minimum | O4: Below Minimum
B5: ='Cash flow forecast'!C7 -> 45962 | C5: ='Cash flow forecast'!C8 -> 10000 | M5: =B5 -> 45962 | N5: =IF(C5<Cash_Minimum,0,C5) -> 10000 | O5: =IF(C5<Cash_Minimum,C5,0) -> 0
B6: ='Cash flow forecast'!D7 -> 45992 | C6: ='Cash flow forecast'!D8 -> 8050 | M6: =B6 -> 45992 | N6: =IF(C6<Cash_Minimum,0,C6) -> 8050 | O6: =IF(C6<Cash_Minimum,C6,0) -> 0
B7: ='Cash flow forecast'!E7 -> 46023 | C7: ='Cash flow forecast'!E8 -> 9350 | M7: =B7 -> 46023 | N7: =IF(C7<Cash_Minimum,0,C7) -> 9350 | O7: =IF(C7<Cash_Minimum,C7,0) -> 0
B8: ='Cash flow forecast'!F7 -> 46054 | C8: ='Cash flow forecast'!F8 -> 890 | M8: =B8 -> 46054 | N8: =IF(C8<Cash_Minimum,0,C8) -> 0 | O8: =IF(C8<Cash_Minimum,C8,0) -> 890
B9: ='Cash flow forecast'!G7 -> 46082 | C9: ='Cash flow forecast'!G8 -> 2190 | M9: =B9 -> 46082 | N9: =IF(C9<Cash_Minimum,0,C9) -> 2190 | O9: =IF(C9<Cash_Minimum,C9,0) -> 0
B10: ='Cash flow forecast'!H7 -> 46113 | C10: ='Cash flow forecast'!H8 -> 13590 | M10: =B10 -> 46113 | N10: =IF(C10<Cash_Minimum,0,C10) -> 13590 | O10: =IF(C10<Cash_Minimum,C10,0) -> 0
B11: ='Cash flow forecast'!I7 -> 46143 | C11: ='Cash flow forecast'!I8 -> 13790 | M11: =B11 -> 46143 | N11: =IF(C11<Cash_Minimum,0,C11) -> 13790 | O11: =IF(C11<Cash_Minimum,C11,0) -> 0
B12: ='Cash flow forecast'!J7 -> 46174 | C12: ='Cash flow forecast'!J8 -> 15290 | M12: =B12 -> 46174 | N12: =IF(C12<Cash_Minimum,0,C12) -> 15290 | O12: =IF(C12<Cash_Minimum,C12,0) -> 0
B13: ='Cash flow forecast'!K7 -> 46204 | C13: ='Cash flow forecast'!K8 -> 16410 | M13: =B13 -> 46204 | N13: =IF(C13<Cash_Minimum,0,C13) -> 16410 | O13: =IF(C13<Cash_Minimum,C13,0) -> 0
B14: ='Cash flow forecast'!L7 -> 46235 | C14: ='Cash flow forecast'!L8 -> 14360 | M14: =B14 -> 46235 | N14: =IF(C14<Cash_Minimum,0,C14) -> 14360 | O14: =IF(C14<Cash_Minimum,C14,0) -> 0
B15: ='Cash flow forecast'!M7 -> 46266 | C15: ='Cash flow forecast'!M8 -> 16560 | M15: =B15 -> 46266 | N15: =IF(C15<Cash_Minimum,0,C15) -> 16560 | O15: =IF(C15<Cash_Minimum,C15,0) -> 0
B16: ='Cash flow forecast'!N7 -> 46296 | C16: ='Cash flow forecast'!N8 -> 18780 | M16: =B16 -> 46296 | N16: =IF(C16<Cash_Minimum,0,C16) -> 18780 | O16: =IF(C16<Cash_Minimum,C16,0) -> 0
